BEGIN:VCALENDAR
VERSION:2.0
PRODID:icalendar-ruby
CALSCALE:GREGORIAN
METHOD:PUBLISH
BEGIN:VEVENT
DTSTAMP:20260425T013513Z
UID:10-486227@londonnaz.com
DTSTART:20261028T220000Z
DTEND:20261028T230000Z
CLASS:PUBLIC
CREATED:20260424T191742
DESCRIPTION:
LAST-MODIFIED:20260424T191742
LOCATION:Family Center
SUMMARY:Wednesday Night Bible Study
URL;VALUE=URI:https://londonnaz.com/events/wednesday-night-bible-study/2026
 -10-28
ATTACH;FILENAME=Bible-Study-2.jpeg;FMTTYPE=image/jpeg:https://dq5pwpg1q8ru0
 .cloudfront.net/2025/09/03/15/46/50/89330b72-4c24-4f22-b100-a63561ae9c8f/B
 ible-Study-2.jpeg
END:VEVENT
END:VCALENDAR
