BEGIN:VCALENDAR
VERSION:2.0
PRODID:icalendar-ruby
CALSCALE:GREGORIAN
METHOD:PUBLISH
BEGIN:VEVENT
DTSTAMP:20260425T212239Z
UID:12-488295@londonnaz.com
DTSTART:20261014T220000Z
DTEND:20261014T230000Z
CLASS:PUBLIC
CREATED:20260425T155454
DESCRIPTION:
LAST-MODIFIED:20260425T155454
LOCATION:
SUMMARY:Youth Group Meeting 
URL;VALUE=URI:https://londonnaz.com/events/youth-group-meeting/2026-10-14
ATTACH;FILENAME=NYI-Logo.jpg;FMTTYPE=image/jpeg:https://dq5pwpg1q8ru0.cloud
 front.net/2024/05/09/23/37/53/fa42dfe8-7dfa-450b-ac7e-126c24b0c6bf/NYI-Log
 o.jpg
END:VEVENT
END:VCALENDAR
